BEGIN:VCALENDAR
VERSION:2.0
PRODID:-//De Tuinen van Westerpark - ECPv6.15.20//NONSGML v1.0//EN
CALSCALE:GREGORIAN
METHOD:PUBLISH
X-ORIGINAL-URL:https://detuinenvanwesterpark.nl
X-WR-CALDESC:Evenementen voor De Tuinen van Westerpark
REFRESH-INTERVAL;VALUE=DURATION:PT1H
X-Robots-Tag:noindex
X-PUBLISHED-TTL:PT1H
BEGIN:VTIMEZONE
TZID:Europe/Amsterdam
BEGIN:DAYLIGHT
TZOFFSETFROM:+0100
TZOFFSETTO:+0200
TZNAME:CEST
DTSTART:20210328T010000
END:DAYLIGHT
BEGIN:STANDARD
TZOFFSETFROM:+0200
TZOFFSETTO:+0100
TZNAME:CET
DTSTART:20211031T010000
END:STANDARD
BEGIN:DAYLIGHT
TZOFFSETFROM:+0100
TZOFFSETTO:+0200
TZNAME:CEST
DTSTART:20220327T010000
END:DAYLIGHT
BEGIN:STANDARD
TZOFFSETFROM:+0200
TZOFFSETTO:+0100
TZNAME:CET
DTSTART:20221030T010000
END:STANDARD
BEGIN:DAYLIGHT
TZOFFSETFROM:+0100
TZOFFSETTO:+0200
TZNAME:CEST
DTSTART:20230326T010000
END:DAYLIGHT
BEGIN:STANDARD
TZOFFSETFROM:+0200
TZOFFSETTO:+0100
TZNAME:CET
DTSTART:20231029T010000
END:STANDARD
END:VTIMEZONE
BEGIN:VEVENT
DTSTART;TZID=Europe/Amsterdam:20220227T143000
DTEND;TZID=Europe/Amsterdam:20220227T163000
DTSTAMP:20260421T134851
CREATED:20211021T052520Z
LAST-MODIFIED:20240212T113422Z
UID:10000037-1645972200-1645979400@detuinenvanwesterpark.nl
SUMMARY:Cursus natuurlijk moestuinieren (Volgeboekt)
DESCRIPTION:In 5 bijeenkomsten op zondagmiddag leggen we uit hoe je een moestuin kunt aanleggen en onderhouden\, of dit nu op de volkstuin is of in potten op het balkon. Aanmelden s.v.p. voor 14 november 2021 via dit formulier. \n\n\n\nZie ook deze update: Up-date Cursus Natuurlijk Moestuinieren en meer. \n\n\n\nVoor wie: Beginnende (moes)tuinders. Heb je behoefte aan theorie maar wil je ook praktisch aan de slag? Voor iedereen die meer wil weten over natuurlijk tuinieren\, of dit nu gaat om tuinieren in je eigen tuin\, op je balkon of in de vensterbank. \n\n\n\nJe krijgt allerlei informatie\, zoals over natuurlijk tuinieren\, de kringloop en bijzondere tuinen in Amsterdam en omgeving. Tuinieren met de natuur mee en niet tegen de natuur in. De aanleiding is de groeiende behoefte aan meer kennis over natuurlijk tuinieren. Het praktijkgedeelte voor een belangrijk deel plaatsvinden in de moestuin op Nut en Genoegen. En op de schooltuin in Amsterdam Noord. \n\n\n\nGegeven door: \n\n\n\n\nGerd Snoei – zeer ervaren natuurdocent IVN Amsterdam\n\n\n\nIris Poels – De tuinen van Westerpark + IVN Amsterdam\n\n\n\nGastdocenten\n\n\n\n\n\nDe Natuurlijke (Moes)tuin – 27 februari \n\n\n\nTeeltplan + Zaaien\n\n\n\nStrijden of sturen \n\n\n\nOnderhoud \n\n\n\nOogsten & lunch \n\n\n\n\nKosten: € 50\,- voor deelname aan de 5 bijeenkomsten\n\n\n\nLocatiesDe Tuinen van WesterparkNut & Genoegen – Educatie lokaalSloterdijkerweg 221014 CB Amsterdam \n\n\n\nSchooltuin Noord – Educatie lokaalJ.H Heekpad 31024 BD Amsterdam \n\n\n\nCoördinator & organisatie:Iris Poels – @InhetgroenmetIris \n\n\n\nAanmelden s.v.p. voor 14 november 2021 via dit formulier \n\n\n\nVoor meer informatie neem contact op met irispoels@xs4all.nl of bel/stuur een bericht naar 0641255361 \n\n\n\nKosten: € 50\,- voor deelname aan de 5 bijeenkomsten \n\n\n\nZie ook deze update: Up-date Cursus Natuurlijk Moestuinieren en meer.
URL:https://detuinenvanwesterpark.nl/agenda/cursus-natuurlijk-moestuinieren/
CATEGORIES:Tuinen van Westerpark
ATTACH;FMTTYPE=image/jpeg:https://detuinenvanwesterpark.nl/wp-content/uploads/2021/11/dxhfRJ-g.jpeg
ORGANIZER;CN="Iris Poels":MAILTO:irispoels@xs4all.nl
END:VEVENT
END:VCALENDAR