BEGIN:VCALENDAR
VERSION:2.0
PRODID:-//De Tuinen van Westerpark - ECPv6.15.20//NONSGML v1.0//EN
CALSCALE:GREGORIAN
METHOD:PUBLISH
X-ORIGINAL-URL:https://detuinenvanwesterpark.nl
X-WR-CALDESC:Evenementen voor De Tuinen van Westerpark
REFRESH-INTERVAL;VALUE=DURATION:PT1H
X-Robots-Tag:noindex
X-PUBLISHED-TTL:PT1H
BEGIN:VTIMEZONE
TZID:Europe/Amsterdam
BEGIN:DAYLIGHT
TZOFFSETFROM:+0100
TZOFFSETTO:+0200
TZNAME:CEST
DTSTART:20210328T010000
END:DAYLIGHT
BEGIN:STANDARD
TZOFFSETFROM:+0200
TZOFFSETTO:+0100
TZNAME:CET
DTSTART:20211031T010000
END:STANDARD
BEGIN:DAYLIGHT
TZOFFSETFROM:+0100
TZOFFSETTO:+0200
TZNAME:CEST
DTSTART:20220327T010000
END:DAYLIGHT
BEGIN:STANDARD
TZOFFSETFROM:+0200
TZOFFSETTO:+0100
TZNAME:CET
DTSTART:20221030T010000
END:STANDARD
BEGIN:DAYLIGHT
TZOFFSETFROM:+0100
TZOFFSETTO:+0200
TZNAME:CEST
DTSTART:20230326T010000
END:DAYLIGHT
BEGIN:STANDARD
TZOFFSETFROM:+0200
TZOFFSETTO:+0100
TZNAME:CET
DTSTART:20231029T010000
END:STANDARD
BEGIN:DAYLIGHT
TZOFFSETFROM:+0100
TZOFFSETTO:+0200
TZNAME:CEST
DTSTART:20240331T010000
END:DAYLIGHT
BEGIN:STANDARD
TZOFFSETFROM:+0200
TZOFFSETTO:+0100
TZNAME:CET
DTSTART:20241027T010000
END:STANDARD
BEGIN:DAYLIGHT
TZOFFSETFROM:+0100
TZOFFSETTO:+0200
TZNAME:CEST
DTSTART:20250330T010000
END:DAYLIGHT
BEGIN:STANDARD
TZOFFSETFROM:+0200
TZOFFSETTO:+0100
TZNAME:CET
DTSTART:20251026T010000
END:STANDARD
BEGIN:DAYLIGHT
TZOFFSETFROM:+0100
TZOFFSETTO:+0200
TZNAME:CEST
DTSTART:20260329T010000
END:DAYLIGHT
BEGIN:STANDARD
TZOFFSETFROM:+0200
TZOFFSETTO:+0100
TZNAME:CET
DTSTART:20261025T010000
END:STANDARD
END:VTIMEZONE
BEGIN:VEVENT
DTSTART;TZID=Europe/Amsterdam:20251101T100000
DTEND;TZID=Europe/Amsterdam:20251101T130000
DTSTAMP:20260421T220605
CREATED:20251012T083058Z
LAST-MODIFIED:20251012T083711Z
UID:10000264-1761991200-1762002000@detuinenvanwesterpark.nl
SUMMARY:Help mee tuinpark Sloterdijkermeer winterklaar te maken
DESCRIPTION:Zo net voor de winter is er op het tuinpark altijd veel te doen. De sloten raken wat dichtgeslibd\, het blad ligt overal en sommige struiken kunnen wel een snoeibeurt gebruiken. Daarom organiseren we een gezamenlijke werkochtend op zaterdag 1 november\, van 10 tot 13 uur. \n\n\n\n\n\n\n\n\n\n\n\n\n\n\n\n\n\n \n\n\n\nWe verzamelen bij de hoofdingang van tuinpark Sloterdijkermeer(Sloterdijkerweg 20\, 1014 CB Amsterdam). Na een korte uitleg gaan we samen aan de slag: sloten uitbaggeren om de doorstroming en waterkwaliteit te verbeteren\, bladeren harken en groenafval verzamelen om te composteren\, en wat licht snoeiwerk waar dat nodig is. \n\n\n\nTrek stevige schoenen aan en kleding die vies mag worden. Wij zorgen voor werkhandschoenen en gereedschap. Er zijn klussen voor iedereen — licht\, wat zwaarder\, op het droge of bij de slootkant. \n\n\n\nNa afloop drinken we samen koffie of thee met wat lekkers. Een gezellige ochtend in de buitenlucht\, frisse energie en een goed begin van het weekend. \n\n\n\n👉 Zaterdag 1 november 2025\, 10:00 – 13:00 uur👉 Aanmelden kan via deze link op natuurwerkdag.nl👉 Meer informatie: annemiekrigter@gmail.com👉 Verzamelen bij de hoofdingang van tuinpark Sloterdijkermeer (Sloterdijkerweg 20\, 1014 CB Amsterdam)
URL:https://detuinenvanwesterpark.nl/agenda/sloterdijkermeer-winterklaar-maken-2025/
LOCATION:Hoofdingang van Tuinpark Sloterdijkermeer
ATTACH;FMTTYPE=image/jpeg:https://detuinenvanwesterpark.nl/wp-content/uploads/2025/10/natuurwerkdag.jpg
END:VEVENT
BEGIN:VEVENT
DTSTART;TZID=Europe/Amsterdam:20240509T063000
DTEND;TZID=Europe/Amsterdam:20240509T080000
DTSTAMP:20260421T220605
CREATED:20240115T121801Z
LAST-MODIFIED:20240216T153448Z
UID:10000158-1715236200-1715241600@detuinenvanwesterpark.nl
SUMMARY:Dauwtrappen op Hemelvaartdag
DESCRIPTION:Een wandeling langs “hemelse en heidense” bomen\, struiken en planten. \n\n\n\nEr bestaat een wonderbaarlijke wereld van planten\, die in verband staan met heksen en heiligen\, Jezus en Maria\, duivels en pastoors met rookpannen. Verhalen over geloof\, bijgeloof en de praktijk van de middeleeuwse geneeskunst. Afgezien van hun nuttige gaven hebben planten altijd tot de verbeelding van mensen gesproken.Soms door de kleur\, geur\, of vorm van bloem of blad of een geheimzinnig geritsel in de wind. Dit werd tot uitdrukking gebracht in een grappige naam of legende. Zo ontstonden volksnamen als: monnikskop\, papekralen\, hallelujakruid\, heregodsnageltjes\, februarigekje\, en naakt begijntje voor resp. paardenbloem\, blauwe druifjes\, klaverzuring\, sedum acre\, sneeuwklokje en herfsttijloos! \n\n\n\nLegenden zijn er te kust en te keur. \n\n\n\nWij gaan eens kijken wat er zoal leeft in de Tuinen van Westerpark! \n\n\n\nVerzamelen bij de hoofdingang van Tuinpark Sloterdijkermeer. \n\n\n\nVooraf aanmelden is niet nodig.
URL:https://detuinenvanwesterpark.nl/agenda/dauwtrappen-op-hemelvaartdag-2/
LOCATION:Hoofdingang van Tuinpark Sloterdijkermeer
CATEGORIES:Tuinen van Westerpark
ATTACH;FMTTYPE=image/png:https://detuinenvanwesterpark.nl/wp-content/uploads/2022/05/Screenshot-from-2022-05-21-08-59-11.png
END:VEVENT
BEGIN:VEVENT
DTSTART;TZID=Europe/Amsterdam:20230518T083000
DTEND;TZID=Europe/Amsterdam:20230518T100000
DTSTAMP:20260421T220605
CREATED:20220521T045510Z
LAST-MODIFIED:20230825T121325Z
UID:10000048-1684398600-1684404000@detuinenvanwesterpark.nl
SUMMARY:Dauwtrappen op Hemelvaartdag
DESCRIPTION:Een wandeling langs “hemelse en heidense” bomen\, struiken en planten. \n\n\n\nEr bestaat een wonderbaarlijke wereld van planten\, die in verband staan met heksen en heiligen\, Jezus en Maria\, duivels en pastoors met rookpannen Verhalen over geloof\, bijgeloof en de praktijk van de middeleeuwse geneeskunst. Afgezien van hun nuttige gaven hebben planten altijd tot de verbeelding van mensen gesproken.Soms door de kleur\, geur\, of vorm van bloem of blad of een geheimzinnig geritsel in de wind. Dit werd tot uitdrukking gebracht in een grappige naam of legende. Zo ontstonden volksnamen als: monnikskop\, papekralen\, hallelujakruid\, heregodsnageltjes\, februarigekje\, en naakt begijntje voor resp. paardenbloem\, blauwe druifjes\, klaverzuring\, sedum acre\, sneeuwklokje en herfsttijloos! \n\n\n\nLegenden zijn er te kust en te keur. \n\n\n\nWij gaan eens kijken wat er zoal leeft in de Tuinen van Westerpark! \n\n\n\nVerzamelen bij de hoofdingang van Tuinpark Sloterdijkermeer. \n\n\n\nVooraf aanmelden is niet nodig.
URL:https://detuinenvanwesterpark.nl/agenda/dauwtrappen/
LOCATION:Hoofdingang van Tuinpark Sloterdijkermeer
CATEGORIES:Tuinen van Westerpark
ATTACH;FMTTYPE=image/png:https://detuinenvanwesterpark.nl/wp-content/uploads/2023/05/Screenshot-from-2022-05-21-08-59-11-edited.png
END:VEVENT
BEGIN:VEVENT
DTSTART;TZID=Europe/Amsterdam:20220526T083000
DTEND;TZID=Europe/Amsterdam:20220526T100000
DTSTAMP:20260421T220605
CREATED:20230516T090800Z
LAST-MODIFIED:20230516T090801Z
UID:10000088-1653553800-1653559200@detuinenvanwesterpark.nl
SUMMARY:Dauwtrappen op Hemelvaartdag
DESCRIPTION:Een wandeling langs “hemelse en heidense” bomen\, struiken en planten. \n\n\n\nEr bestaat een wonderbaarlijke wereld van planten\, die in verband staan met heksen en heiligen\, Jezus en Maria\, duivels en pastoors met rookpannen Verhalen over geloof\, bijgeloof en de praktijk van de middeleeuwse geneeskunst. Afgezien van hun nuttige gaven hebben planten altijd tot de verbeelding van mensen gesproken.Soms door de kleur\, geur\, of vorm van bloem of blad of een geheimzinnig geritsel in de wind. Dit werd tot uitdrukking gebracht in een grappige naam of legende. Zo ontstonden volksnamen als: monnikskop\, papekralen\, hallelujakruid\, heregodsnageltjes\, februarigekje\, en naakt begijntje voor resp. paardenbloem\, blauwe druifjes\, klaverzuring\, sedum acre\, sneeuwklokje en herfsttijloos! \n\n\n\nLegenden zijn er te kust en te keur. \n\n\n\nWij gaan eens kijken wat er zoal leeft in de Tuinen van Westerpark! \n\n\n\nVerzamelen bij de hoofdingang van Tuinpark Sloterdijkermeer. \n\n\n\nVooraf aanmelden is niet nodig.
URL:https://detuinenvanwesterpark.nl/agenda/dauwtrappen-op-hemelvaartdag/
LOCATION:Hoofdingang van Tuinpark Sloterdijkermeer
CATEGORIES:Tuinen van Westerpark
ATTACH;FMTTYPE=image/png:https://detuinenvanwesterpark.nl/wp-content/uploads/2022/05/Screenshot-from-2022-05-21-08-59-11.png
END:VEVENT
END:VCALENDAR