BEGIN:VCALENDAR
VERSION:2.0
PRODID:-//De Tuinen van Westerpark - ECPv6.15.20//NONSGML v1.0//EN
CALSCALE:GREGORIAN
METHOD:PUBLISH
X-WR-CALNAME:De Tuinen van Westerpark
X-ORIGINAL-URL:https://detuinenvanwesterpark.nl
X-WR-CALDESC:Evenementen voor De Tuinen van Westerpark
REFRESH-INTERVAL;VALUE=DURATION:PT1H
X-Robots-Tag:noindex
X-PUBLISHED-TTL:PT1H
BEGIN:VTIMEZONE
TZID:Europe/Amsterdam
BEGIN:DAYLIGHT
TZOFFSETFROM:+0100
TZOFFSETTO:+0200
TZNAME:CEST
DTSTART:20220327T010000
END:DAYLIGHT
BEGIN:STANDARD
TZOFFSETFROM:+0200
TZOFFSETTO:+0100
TZNAME:CET
DTSTART:20221030T010000
END:STANDARD
BEGIN:DAYLIGHT
TZOFFSETFROM:+0100
TZOFFSETTO:+0200
TZNAME:CEST
DTSTART:20230326T010000
END:DAYLIGHT
BEGIN:STANDARD
TZOFFSETFROM:+0200
TZOFFSETTO:+0100
TZNAME:CET
DTSTART:20231029T010000
END:STANDARD
BEGIN:DAYLIGHT
TZOFFSETFROM:+0100
TZOFFSETTO:+0200
TZNAME:CEST
DTSTART:20240331T010000
END:DAYLIGHT
BEGIN:STANDARD
TZOFFSETFROM:+0200
TZOFFSETTO:+0100
TZNAME:CET
DTSTART:20241027T010000
END:STANDARD
END:VTIMEZONE
BEGIN:VEVENT
DTSTART;TZID=Europe/Amsterdam:20230813T113000
DTEND;TZID=Europe/Amsterdam:20230813T153000
DTSTAMP:20260422T032123
CREATED:20230719T071356Z
LAST-MODIFIED:20240213T134607Z
UID:10000137-1691926200-1691940600@detuinenvanwesterpark.nl
SUMMARY:Lutkemeerfietstocht
DESCRIPTION:Op zondag 13 augustus is er een Lutkemeerfietstocht\, waarbij we gaan fietsen vanaf Westerpark naar de Lutkemeerpolder. Hier krijgen we een rondleiding en een uitleg over de huidige situatie rondom de polder en Voedselpark Amsterdam. \n\n\n\n\n\n\n\n \n\n\n\nDe fietstocht start om 11.30 uur\, en je hebt de keuze uit twee startlocaties: om 11.30 uur bij de hoofdingang van Westerpark (Westerpark 1) of om 11.45 uur bij de Eetbare Stoep (Sloterdijkerweg 22). \n\n\n\nDe fietstocht is ongeveer 10 km lang en eindigt rond 13.00 uur bij Boerderij de Boterbloem op Lutkemeerweg 262B\, 1067 TH Amsterdam. Hier volgt dan de korte wandeling en uitleg over de situatie in de polder. Je hebt ook de mogelijkheid om biologische producten van het land te kopen en een drankje te nuttigen in de winkel van de boerderij. \n\n\n\nDe fietstocht en wandeling zijn geschikt voor iedereen met interesse in natuurbehoud\, stadslandbouw of biodiversiteit. De wandeling eindigt om 15.30 uur. Het belooft een interessante en leerzame ervaring te worden voor alle deelnemers! \n\n\n\nZie ook: https://voedselparkamsterdam.nl/ \n\n\n\nGraag aanmelden via info@detuinenvanwesterpark.nl
URL:https://detuinenvanwesterpark.nl/agenda/lutkemeerfietstocht/
LOCATION:Boerderij de Boterbloem | Lutkemeerpolder\, Lutkemeerweg 262B\, 1067 TH Amsterdam\, Amsterdam\, 1067TH\, Nederland
CATEGORIES:Tuinen van Westerpark
ATTACH;FMTTYPE=image/png:https://detuinenvanwesterpark.nl/wp-content/uploads/2023/07/Screenshot-from-2023-08-02-15-44-21.png
END:VEVENT
END:VCALENDAR