BEGIN:VCALENDAR
VERSION:2.0
PRODID:-//De Tuinen van Westerpark - ECPv6.15.20//NONSGML v1.0//EN
CALSCALE:GREGORIAN
METHOD:PUBLISH
X-WR-CALNAME:De Tuinen van Westerpark
X-ORIGINAL-URL:https://detuinenvanwesterpark.nl
X-WR-CALDESC:Evenementen voor De Tuinen van Westerpark
REFRESH-INTERVAL;VALUE=DURATION:PT1H
X-Robots-Tag:noindex
X-PUBLISHED-TTL:PT1H
BEGIN:VTIMEZONE
TZID:Europe/Amsterdam
BEGIN:DAYLIGHT
TZOFFSETFROM:+0100
TZOFFSETTO:+0200
TZNAME:CEST
DTSTART:20250330T010000
END:DAYLIGHT
BEGIN:STANDARD
TZOFFSETFROM:+0200
TZOFFSETTO:+0100
TZNAME:CET
DTSTART:20251026T010000
END:STANDARD
BEGIN:DAYLIGHT
TZOFFSETFROM:+0100
TZOFFSETTO:+0200
TZNAME:CEST
DTSTART:20260329T010000
END:DAYLIGHT
BEGIN:STANDARD
TZOFFSETFROM:+0200
TZOFFSETTO:+0100
TZNAME:CET
DTSTART:20261025T010000
END:STANDARD
BEGIN:DAYLIGHT
TZOFFSETFROM:+0100
TZOFFSETTO:+0200
TZNAME:CEST
DTSTART:20270328T010000
END:DAYLIGHT
BEGIN:STANDARD
TZOFFSETFROM:+0200
TZOFFSETTO:+0100
TZNAME:CET
DTSTART:20271031T010000
END:STANDARD
END:VTIMEZONE
BEGIN:VEVENT
DTSTART;TZID=Europe/Amsterdam:20260514T063000
DTEND;TZID=Europe/Amsterdam:20260514T080000
DTSTAMP:20260421T185749
CREATED:20260219T124735Z
LAST-MODIFIED:20260312T084803Z
UID:10000377-1778740200-1778745600@detuinenvanwesterpark.nl
SUMMARY:Dauwtrappen en Stiltewandeling op Hemelvaartdag
DESCRIPTION:Een wandeling langs “hemelse en heidense” bomen\, struiken en planten. \n\n\n\n \n\n\n\nEr bestaat een wonderbaarlijke wereld van planten\, die in verband staan met heksen en heiligen\, Jezus en Maria\, duivels en pastoors met rookpannen. Verhalen over geloof\, bijgeloof en de praktijk van de middeleeuwse geneeskunst. Afgezien van hun nuttige gaven hebben planten altijd tot de verbeelding van mensen gesproken.Soms door de kleur\, geur\, of vorm van bloem of blad of een geheimzinnig geritsel in de wind. Dit werd tot uitdrukking gebracht in een grappige naam of legende. Zo ontstonden volksnamen als: monnikskop\, papekralen\, hallelujakruid\, heregodsnageltjes\, februarigekje\, en naakt begijntje voor resp. paardenbloem\, blauwe druifjes\, klaverzuring\, sedum acre\, sneeuwklokje en herfsttijloos! \n\n\n\nLegenden zijn er te kust en te keur. \n\n\n\nWij gaan eens kijken wat er zoal leeft in de Tuinen van Westerpark! \n\n\n\nWe verzamelen bij de hoofdingang van Nut en Genoegen – (bij De Eetbare Stoep) . Sloterdijkerweg 22 hoofdingang Nut & Genoegen.  \n\n\n\nAanmelden niet nodig\, wees op tijd.
URL:https://detuinenvanwesterpark.nl/agenda/dauwtrappen-en-stiltewandeling-op-hemelvaartdag-2/
LOCATION:Bij de hoofdingang van Nut & Genoegen\, Sloterdijkerweg 22\, Amsterdam\, 1014CB\, Nederland
CATEGORIES:Tuinen van Westerpark
ATTACH;FMTTYPE=image/jpeg:https://detuinenvanwesterpark.nl/wp-content/uploads/2022/05/nj2yccnvp6k-e1653116249691.jpg
END:VEVENT
END:VCALENDAR